BEGIN:VCALENDAR
VERSION:2.0
BEGIN:VEVENT
UID:BARNSTORMERSCOMEDY-1647
DTSTART:20260606T200000
DTEND:20260606T220000
SUMMARY:Barnstormers Comedy - Leighton Buzzard Library Theatre
DESCRIPTION:Watch This Space! - Barnstormers Comedy
LOCATION:Leighton Buzzard Library Theatre\, Leighton Buzzard\, LU7 1RX
URL:http://barnstormerscomedy.com/performance.php?id=1647
END:VEVENT
END:VCALENDAR