BEGIN:VCALENDAR
VERSION:2.0
BEGIN:VEVENT
UID:BARNSTORMERSCOMEDY-1646
DTSTART:20260528T200000
DTEND:20260528T220000
SUMMARY:Barnstormers Comedy - Grove Theatre
DESCRIPTION:Fantastic Barnstormers Comedy show in propsect in the always delightful surr
 ounds of the upstairs foyer at the Grove Theatre Dunstable. As ever\, a top 
 Barnstormers Comedy MC will be on hand to introduce three more fantstic acts
  from the London Comedy Circuit and beyond. Tonight\, they are: the sharp an
 d fast-paced Paul Thorne\, 'A must-see comedian' - The Guardian\; rapidly ri
 sing engaging newcomer Matt Rouse\, 'A solid attitude he skillfully exploits
  ' - Chortle\; and one great act as yet to be confirmed. - Barnstormers Come
 dy
LOCATION:Grove Theatre\, Dunstable\, LU5 4GP
URL:http://barnstormerscomedy.com/performance.php?id=1646
END:VEVENT
END:VCALENDAR