BEGIN:VCALENDAR
VERSION:2.0
BEGIN:VEVENT
UID:BARNSTORMERSCOMEDY-1645
DTSTART:20260502T200000
DTEND:20260502T220000
SUMMARY:Barnstormers Comedy - Leighton Buzzard Library Theatre
DESCRIPTION:Superb line-up in prospect in the always delightful surrounds of the theatre
  above the library in the heart of Leighton Buzzard. as ever\, a top Barnsto
 rmers Comedy MC will be on hand to introduce three more excellent acts from 
 the London Comedy Circuit and beyond. Tonight\, they are hugely energetic ra
 conteur Paul Pirie\, 'Fizzing with energy and spewing out one-liners like he
  had just scoffed a dodgy prawn. Pirie is a man we will be seeing more of' -
  Daily Record\; rapidly rising midlands-based comic Alex Hylton\, 'Alex Hylt
 on matched the mood of the room perfectly with laid back stories (with good 
 punch lines) that had the room captivated the entire time\, great delivery a
 nd persona' - Teknicolour Smoof\; and guitar-wielding gagster Pierre Hollins
 \, 'An unsung hero of new comedy. Don’t miss this true professional at wor
 k. Bloody funny' - Time Out. - Barnstormers Comedy
LOCATION:Leighton Buzzard Library Theatre\, Leighton Buzzard\, LU7 1RX
URL:http://barnstormerscomedy.com/performance.php?id=1645
END:VEVENT
END:VCALENDAR